BEGIN:VCALENDAR
VERSION:2.0
PRODID:icalendar-ruby
CALSCALE:GREGORIAN
METHOD:PUBLISH
BEGIN:VEVENT
DTSTAMP:20260421T164842Z
UID:22-338860@federatedchurch.tv
DTSTART:20260514T001500Z
DTEND:20260514T010000Z
CLASS:PUBLIC
CREATED:20260420T181810
DESCRIPTION:Praise band practice focused on unifying our sound\, refining w
 orship songs\, and preparing hearts to lead the congregation in meaningful
 \, Spirit‑centered worship on Sunday mornings.
LAST-MODIFIED:20260420T181810
LOCATION:Federated Church
SUMMARY:Praise Band Practice
URL;VALUE=URI:https://www.federatedchurch.tv/events/praise-band-practice/20
 26-05-13
ATTACH;FILENAME=praise-band.jpeg;FMTTYPE=image/jpeg:https://dq5pwpg1q8ru0.c
 loudfront.net/2026/04/20/23/18/09/c93ce2b2-eff7-49b4-8433-0906d09e88db/pra
 ise-band.jpeg
END:VEVENT
END:VCALENDAR
